BEGIN:VCALENDAR
VERSION:2.0
PRODID:-//Vu pas Vu, Vivre l&#039;Art sur la Côte d&#039;Azur - ECPv6.15.20//NONSGML v1.0//EN
CALSCALE:GREGORIAN
METHOD:PUBLISH
X-WR-CALNAME:Vu pas Vu, Vivre l&#039;Art sur la Côte d&#039;Azur
X-ORIGINAL-URL:https://www.vupasvu.com
X-WR-CALDESC:Évènements pour Vu pas Vu, Vivre l&#039;Art sur la Côte d&#039;Azur
REFRESH-INTERVAL;VALUE=DURATION:PT1H
X-Robots-Tag:noindex
X-PUBLISHED-TTL:PT1H
BEGIN:VTIMEZONE
TZID:Europe/Paris
BEGIN:DAYLIGHT
TZOFFSETFROM:+0100
TZOFFSETTO:+0200
TZNAME:CEST
DTSTART:20250330T010000
END:DAYLIGHT
BEGIN:STANDARD
TZOFFSETFROM:+0200
TZOFFSETTO:+0100
TZNAME:CET
DTSTART:20251026T010000
END:STANDARD
BEGIN:DAYLIGHT
TZOFFSETFROM:+0100
TZOFFSETTO:+0200
TZNAME:CEST
DTSTART:20260329T010000
END:DAYLIGHT
BEGIN:STANDARD
TZOFFSETFROM:+0200
TZOFFSETTO:+0100
TZNAME:CET
DTSTART:20261025T010000
END:STANDARD
BEGIN:DAYLIGHT
TZOFFSETFROM:+0100
TZOFFSETTO:+0200
TZNAME:CEST
DTSTART:20270328T010000
END:DAYLIGHT
BEGIN:STANDARD
TZOFFSETFROM:+0200
TZOFFSETTO:+0100
TZNAME:CET
DTSTART:20271031T010000
END:STANDARD
END:VTIMEZONE
BEGIN:VEVENT
DTSTART;TZID=Europe/Paris:20260425T093000
DTEND;TZID=Europe/Paris:20260425T123000
DTSTAMP:20260425T012548
CREATED:20260324T134250Z
LAST-MODIFIED:20260324T134803Z
UID:10000698-1777109400-1777120200@www.vupasvu.com
SUMMARY:LES MYSTÈRES DE LA LICORNE REGARDS SUR UN CHEF-D’ŒUVRE DU MUSÉE DE CLUNY
DESCRIPTION:  \nAchetez vos billets\n \nPrésentation\n  \nLa Matinale culturelle de Vu pas Vu\nCycle « Ces expositions qui font événement »\nSamedi 25 avril 2026\nExposition « Magiques Licornes » au Musée de Cluny à paris\nPar Joël Scholtès\n\n\n\n\nMaître de conférences à l’Université de la Côte d’Azur.\n\n\n\n\n\nÀ l’occasion de l’actualité du Musée de Cluny – Musée national du Moyen Âge\, nous vous invitons à une immersion inédite au cœur de l’une des œuvres les plus énigmatiques de l’histoire de l’art : la tenture de La Dame à la licorne. \nDepuis sa redécouverte romantique par George Sand jusqu’aux récentes analyses scientifiques de sa nouvelle muséographie\, cette série de six tapisseries tissées vers 1500 ne cesse de fasciner. Que dissimule ce jardin de Mille-fleurs ? Quel est le véritable sens de la devise « À mon seul désir » ? \nCette conférence de 1h30\, richement illustrée par plus de 120 documents iconographiques\, vous propose un voyage sensoriel et intellectuel. Nous explorerons l’évolution du mythe de la licorne\, de la bête sauvage des bestiaires antiques à l’allégorie courtoise de la Renaissance. \nUNE EXPÉRIENCE IMMERSIVE ET SONORE \nPour accompagner l’analyse des détails les plus secrets — la finesse des soies\, le bestiaire héraldique et la flore luxuriante — chaque étape de la présentation sera rythmée par une illustration sonore. Des chants grégoriens aux polyphonies du XVe siècle\, la musique viendra éclairer le sens caché des œuvres\, créant une résonance unique entre l’œil et l’oreille. \n\n\n\n\n\n\n\n\n\n\n\n\n9h30 à 10h Accueil autour d’un petit-déjeuner. \n10h-12h30 Conférence en deux parties avec une pause gourmande. \nLes collations sont incluses dans le prix. \n\n\n\n\n\n\n\n\n\n\n\n\n\n\n\n\n\n\n\n\n\n\n\n\n\n\n\n\n\n\n\n\n\n\n\nGalerie\n  \n \n\n   \n\nInformations pratiques\n  \n LIEU\nLe Palladio\n18\, rue Pastorelli\, 06000 Nice \n  \n \nACCÈS\nTram ligne 2 : arrêt Durandy – Ligne 1 : arrêt Jean Médecin\nParking public Nice Etoile ou Wilson \n  \n \nINTERVENANTE \nJoël Scholtès
URL:https://www.vupasvu.com/agenda/les-mysteres-de-la-licorne-regards-sur-un-chef-doeuvre-du-musee-de-cluny/
LOCATION:Le PALLADIO\, 18 rue Pastorelli\, 18 rue Pastorelli\, Nice\, 06000\, France
CATEGORIES:MATINALE
ATTACH;FMTTYPE=image/jpeg:https://www.vupasvu.com/wp-content/uploads/2026/03/cda20_actu_cluny_licorne_etude_main-tt-width-1200-height-900-fill-0-crop-1-bgcolor-ffffff.jpg
ORGANIZER;CN="Vu pas Vu":MAILTO:info@vupasvu.com
END:VEVENT
BEGIN:VEVENT
DTSTART;TZID=Europe/Paris:20260425T160000
DTEND;TZID=Europe/Paris:20260425T173000
DTSTAMP:20260425T012548
CREATED:20251107T095230Z
LAST-MODIFIED:20251230T161357Z
UID:10000666-1777132800-1777138200@www.vupasvu.com
SUMMARY:La destruction est-elle inévitable ?
DESCRIPTION:Présentation\n  \nCONFÉRENCE\nConférence Philo\nLa destruction est-elle inévitable ?\n\n\nDans Au-delà du principe de plaisir (1920)\, Freud introduit l’idée d’une pulsion de mort : une tendance fondamentale à détruire ou à s’autodétruire. Elle coexiste avec une pulsion de vie\, orientée vers la continuité et l’organisation. L’existence se déploie dans cette tension. \nErich Fromm conteste le caractère naturel de la destructivité. Pour lui\, celle-ci naît surtout de l’aliénation sociale et de la perte de sens. L’être humain devient violent lorsqu’il ne parvient plus à s’inscrire dans des relations authentiques. Inversement\, une vie ouverte — créatrice et aimante — limite la tentation de détruire. \nAinsi\, si Freud souligne le caractère inévitable d’un noyau destructeur\, Fromm rappelle qu’il peut être transformé.\nReste une question centrale : comment orienter nos forces vers la vie plutôt que vers la mort ? \nUne conférence qui interroge les conditions individuelles et sociales d’un possible dépassement de la destructivité. \nVu pas Vu fait appel au philosophe Éric Bénier-Bürckel afin d’animer des conférences philo. A chaque séance un thème est proposé et fait l’objet d’une intervention d’environ une heure afin de structurer l’approche et d’offrir une réflexion en relation avec les écrits des grands philosophes. Ensuite place aux questions.  \n\n\n\n\n\n\n\n\n\n\n\n\n\n\n\n\n\n\n\nImportant : Pensez à réserver à l’avance et à nous prévenir en cas d’annulation – le nombre de places maximum étant limité à 15 personnes.  \n\n\n\n\n\n\n  \n\n\n\n\nÉric Bénier-Bürckel : \n\n\n\n\nNé à Argenteuil en 1971\, Éric Bénier-Bürckel est professeur de philosophie dans l’Éducation nationale depuis 1995. Après des études de philosophie en classe préparatoire et à l’université\, et en parallèle de son métier de professeur au lycée\, il a publié des romans qui exploraient la part d’ombre de l’homme et interrogeaient le sens de l’existence. Il a à coeur de vous guider à travers les grandes idées et de vous transmettre sa passion du concept.  \n\n\n\n\n\n\n\n\n\n\n\n\n\n\n\n\n\n\n\n\n\n\n\n\n\n\n\n\n\n\n\n\n\n\n\n\n\n\n\n\n\n\n\n\n\n\n\n\nGalerie\n  \n\n  \n  \nInformations pratiques\n  \n LIEU\nLe Palladio\n18 rue Pastorelli\, 06000 Nice \n  \n \nACCÈS\nTram ligne 2 : arrêt Durandy\nTram ligne 1 : arrêt Jean Médecin \n  \n \nCONFÉRENCIER \nEric Bénier-Bürckel \n  \nAchetez vos billets
URL:https://www.vupasvu.com/agenda/la-destruction-est-elle-inevitable/
LOCATION:18 rue Pastorelli\, LE PALLADIO 18 rue Pastorelli\, Nice\, 06000\, France
CATEGORIES:CONFÉRENCE
ATTACH;FMTTYPE=image/webp:https://www.vupasvu.com/wp-content/uploads/2025/11/librededroitsLetriomphedelamort_auteurPieterBrueghellAncien1562.webp
ORGANIZER;CN="Vu pas Vu":MAILTO:info@vupasvu.com
END:VEVENT
END:VCALENDAR